BEGIN:VCALENDAR
VERSION:2.0
PRODID:-//Hagerstown Housing Authority - ECPv4.2.5//NONSGML v1.0//EN
CALSCALE:GREGORIAN
METHOD:PUBLISH
X-WR-CALNAME:Hagerstown Housing Authority
X-ORIGINAL-URL:https://www.hagerstownha.com
X-WR-CALDESC:Events for Hagerstown Housing Authority
BEGIN:VEVENT
DTSTART;TZID=America/New_York:20280125T040000
DTEND;TZID=America/New_York:20280125T200000
DTSTAMP:20260420T144548
CREATED:20220706T141916
LAST-MODIFIED:20220706T141916
UID:40969-1832385600-1832443200@www.hagerstownha.com
SUMMARY:BINGO-Walnut Towers
DESCRIPTION:
URL:https://www.hagerstownha.com/event/bingo-walnut-towers/2028-01-25/
END:VEVENT
END:VCALENDAR