BEGIN:VCALENDAR
VERSION:2.0
PRODID:-//Hagerstown Housing Authority - ECPv4.2.5//NONSGML v1.0//EN
CALSCALE:GREGORIAN
METHOD:PUBLISH
X-WR-CALNAME:Hagerstown Housing Authority
X-ORIGINAL-URL:https://www.hagerstownha.com
X-WR-CALDESC:Events for Hagerstown Housing Authority
BEGIN:VEVENT
DTSTART;TZID=UTC+0:20280214T073000
DTEND;TZID=UTC+0:20280214T084500
DTSTAMP:20260420T113120
CREATED:20181102T234738
LAST-MODIFIED:20181102T234738
UID:41054-1834126200-1834130700@www.hagerstownha.com
SUMMARY:Coffee & Conversation
DESCRIPTION:
URL:https://www.hagerstownha.com/event/coffee-conversation/2028-02-14/
END:VEVENT
END:VCALENDAR