BEGIN:VCALENDAR
VERSION:2.0
PRODID:-//Hagerstown Housing Authority - ECPv4.2.5//NONSGML v1.0//EN
CALSCALE:GREGORIAN
METHOD:PUBLISH
X-WR-CALNAME:Hagerstown Housing Authority
X-ORIGINAL-URL:https://www.hagerstownha.com
X-WR-CALDESC:Events for Hagerstown Housing Authority
BEGIN:VEVENT
DTSTART;TZID=America/New_York:20250922T100000
DTEND;TZID=America/New_York:20250922T140000
DTSTAMP:20260421T141512
CREATED:20230222T170855
LAST-MODIFIED:20230222T170855
UID:36700-1758535200-1758549600@www.hagerstownha.com
SUMMARY:Free Drive Thru Covid Testing
DESCRIPTION:
URL:https://www.hagerstownha.com/event/free-drive-thru-covid-testing/2025-09-22/
LOCATION:13 W Lee Street\, Hagerstown\, 21740\, United States
END:VEVENT
END:VCALENDAR