BEGIN:VCALENDAR
VERSION:2.0
PRODID:-//Hagerstown Housing Authority - ECPv4.2.5//NONSGML v1.0//EN
CALSCALE:GREGORIAN
METHOD:PUBLISH
X-WR-CALNAME:Hagerstown Housing Authority
X-ORIGINAL-URL:https://www.hagerstownha.com
X-WR-CALDESC:Events for Hagerstown Housing Authority
BEGIN:VEVENT
DTSTART;TZID=UTC+0:20180907T080000
DTEND;TZID=UTC+0:20180907T170000
DTSTAMP:20260424T112222
CREATED:20180824T165343
LAST-MODIFIED:20180824T165343
UID:3771-1536307200-1536339600@www.hagerstownha.com
SUMMARY:Noland Village Maintenance Inspections
DESCRIPTION:Inspections will take place at 1008 A-H In Noland Village
URL:https://www.hagerstownha.com/event/noland-village-maintenance-inspections-2/
END:VEVENT
END:VCALENDAR