BEGIN:VCALENDAR
VERSION:2.0
PRODID:-//Hagerstown Housing Authority - ECPv4.2.5//NONSGML v1.0//EN
CALSCALE:GREGORIAN
METHOD:PUBLISH
X-WR-CALNAME:Hagerstown Housing Authority
X-ORIGINAL-URL:https://www.hagerstownha.com
X-WR-CALDESC:Events for Hagerstown Housing Authority
BEGIN:VEVENT
DTSTART;TZID=UTC+0:20180919T080000
DTEND;TZID=UTC+0:20180919T170000
DTSTAMP:20260420T222813
CREATED:20180824T180133
LAST-MODIFIED:20180824T180133
UID:4217-1537344000-1537376400@www.hagerstownha.com
SUMMARY:Pest Control Services at Potomac Towers
DESCRIPTION:Pest Control Services at Potomac Towers Apartments 605-632
URL:https://www.hagerstownha.com/event/pest-control-services-at-potomac-towers-3/
END:VEVENT
END:VCALENDAR