BEGIN:VCALENDAR
VERSION:2.0
PRODID:-//Hagerstown Housing Authority - ECPv4.2.5//NONSGML v1.0//EN
CALSCALE:GREGORIAN
METHOD:PUBLISH
X-WR-CALNAME:Hagerstown Housing Authority
X-ORIGINAL-URL:https://www.hagerstownha.com
X-WR-CALDESC:Events for Hagerstown Housing Authority
BEGIN:VEVENT
DTSTART;TZID=UTC+0:20180926T080000
DTEND;TZID=UTC+0:20180926T170000
DTSTAMP:20260422T122731
CREATED:20180824T180204
LAST-MODIFIED:20180824T180204
UID:4219-1537948800-1537981200@www.hagerstownha.com
SUMMARY:Pest Control Services at Potomac Towers
DESCRIPTION:Pest Control Services at Potomac Towers Apartments 601-604 and 709-731
URL:https://www.hagerstownha.com/event/pest-control-services-at-potomac-towers-4/
END:VEVENT
END:VCALENDAR