BEGIN:VCALENDAR
VERSION:2.0
PRODID:-//Hagerstown Housing Authority - ECPv4.2.5//NONSGML v1.0//EN
CALSCALE:GREGORIAN
METHOD:PUBLISH
X-WR-CALNAME:Hagerstown Housing Authority
X-ORIGINAL-URL:https://www.hagerstownha.com
X-WR-CALDESC:Events for Hagerstown Housing Authority
BEGIN:VEVENT
DTSTART;TZID=UTC+0:20180905T080000
DTEND;TZID=UTC+0:20180905T170000
DTSTAMP:20260420T193117
CREATED:20180824T175753
LAST-MODIFIED:20180824T175753
UID:4205-1536134400-1536166800@www.hagerstownha.com
SUMMARY:Pest Control Services at Walnut Towers
DESCRIPTION:Pest Control services will be conducted at Walnut Towers Apartments 505-516
URL:https://www.hagerstownha.com/event/pest-control-services-at-walnut-towers/
END:VEVENT
END:VCALENDAR