BEGIN:VCALENDAR
VERSION:2.0
PRODID:-//Hagerstown Housing Authority - ECPv4.2.5//NONSGML v1.0//EN
CALSCALE:GREGORIAN
METHOD:PUBLISH
X-WR-CALNAME:Hagerstown Housing Authority
X-ORIGINAL-URL:https://www.hagerstownha.com
X-WR-CALDESC:Events for Hagerstown Housing Authority
BEGIN:VEVENT
DTSTART;TZID=UTC+0:20181109T190000
DTEND;TZID=UTC+0:20181109T220000
DTSTAMP:20260425T142439
CREATED:20181102T233856
LAST-MODIFIED:20181102T233856
UID:5073-1541790000-1541800800@www.hagerstownha.com
SUMMARY:Social Night
DESCRIPTION:
URL:https://www.hagerstownha.com/event/social-night-2/
LOCATION:11 West Baltimore Street\, Hagerstown\, MD\, 21740\, United States
GEO:39.638116;-77.7234788
X-APPLE-STRUCTURED-LOCATION;VALUE=URI;X-ADDRESS=11 West Baltimore Street Hagerstown MD 21740 United States;X-APPLE-RADIUS=500;X-TITLE=11 West Baltimore Street:geo:-77.7234788,39.638116
END:VEVENT
END:VCALENDAR