BEGIN:VCALENDAR
VERSION:2.0
PRODID:-//Hagerstown Housing Authority - ECPv4.2.5//NONSGML v1.0//EN
CALSCALE:GREGORIAN
METHOD:PUBLISH
X-WR-CALNAME:Hagerstown Housing Authority
X-ORIGINAL-URL:https://www.hagerstownha.com
X-WR-CALDESC:Events for Hagerstown Housing Authority
BEGIN:VEVENT
DTSTART;TZID=America/New_York:20270927T110000
DTEND;TZID=America/New_York:20270928T130000
DTSTAMP:20260421T094334
CREATED:20220706T133928
LAST-MODIFIED:20220706T133928
UID:40234-1822042800-1822136400@www.hagerstownha.com
SUMMARY:Stamps/Quarters Sold- C.W. Brooks
DESCRIPTION:
URL:https://www.hagerstownha.com/event/stamps-quarters-sold-c-w-brooks/2027-09-27/
END:VEVENT
END:VCALENDAR