BEGIN:VCALENDAR
VERSION:2.0
PRODID:-//Hagerstown Housing Authority - ECPv4.2.5//NONSGML v1.0//EN
CALSCALE:GREGORIAN
METHOD:PUBLISH
X-WR-CALNAME:Hagerstown Housing Authority
X-ORIGINAL-URL:https://www.hagerstownha.com
X-WR-CALDESC:Events for Hagerstown Housing Authority
BEGIN:VEVENT
DTSTART;TZID=America/New_York:20280124T110000
DTEND;TZID=America/New_York:20280125T130000
DTSTAMP:20260421T000003
CREATED:20220706T133928
LAST-MODIFIED:20220706T133928
UID:40965-1832324400-1832418000@www.hagerstownha.com
SUMMARY:Stamps/Quarters Sold- C.W. Brooks
DESCRIPTION:
URL:https://www.hagerstownha.com/event/stamps-quarters-sold-c-w-brooks/2028-01-24/
END:VEVENT
END:VCALENDAR