BEGIN:VCALENDAR
VERSION:2.0
PRODID:-//Hagerstown Housing Authority - ECPv4.2.5//NONSGML v1.0//EN
CALSCALE:GREGORIAN
METHOD:PUBLISH
X-WR-CALNAME:Hagerstown Housing Authority
X-ORIGINAL-URL:https://www.hagerstownha.com
X-WR-CALDESC:Events for Hagerstown Housing Authority
BEGIN:VEVENT
DTSTART;TZID=UTC+0:20181109T120000
DTEND;TZID=UTC+0:20181109T120000
DTSTAMP:20260422T140700
CREATED:20181102T230316
LAST-MODIFIED:20181102T230854
UID:4645-1541764800-1541764800@www.hagerstownha.com
SUMMARY:Veteran's Day Luncheon
DESCRIPTION:Please RSVP for this event.
URL:https://www.hagerstownha.com/event/veterans-day-luncheon/2018-11-09/
LOCATION:46 West Baltimore Street\, Hagerstown\, MD\, 21740\, United States
GEO:39.639389;-77.7238249
X-APPLE-STRUCTURED-LOCATION;VALUE=URI;X-ADDRESS=46 West Baltimore Street Hagerstown MD 21740 United States;X-APPLE-RADIUS=500;X-TITLE=46 West Baltimore Street:geo:-77.7238249,39.639389
END:VEVENT
END:VCALENDAR