BEGIN:VCALENDAR
VERSION:2.0
PRODID:-//Hagerstown Housing Authority - ECPv4.2.5//NONSGML v1.0//EN
CALSCALE:GREGORIAN
METHOD:PUBLISH
X-WR-CALNAME:Hagerstown Housing Authority
X-ORIGINAL-URL:https://www.hagerstownha.com
X-WR-CALDESC:Events for Hagerstown Housing Authority
BEGIN:VEVENT
DTSTART;TZID=America/New_York:20220217T140000
DTEND;TZID=America/New_York:20220217T150000
DTSTAMP:20260421T235033
CREATED:20220127T210619
LAST-MODIFIED:20220127T210619
UID:27381-1645106400-1645110000@www.hagerstownha.com
SUMMARY:Heart Health- HHA Facebook Live
DESCRIPTION:Please join us for information and programs in our community regarding your HEART health.  We hope that you can join us to receive some useful information about these programs.  This event will be provided through Facebook Live on the HHA Facebook Page!
URL:https://www.hagerstownha.com/event/heart-health-hha-facebook-live/
END:VEVENT
BEGIN:VEVENT
DTSTART;TZID=America/New_York:20220217T180000
DTEND;TZID=America/New_York:20220217T190000
DTSTAMP:20260421T235033
CREATED:20220127T205521
LAST-MODIFIED:20220127T205521
UID:27322-1645120800-1645124400@www.hagerstownha.com
SUMMARY:Taxes and Beyond
DESCRIPTION:Financial Education Partnership-Washington County offers FREE monthly online classes to help members in our community to take charge of their finances.\n\nTo register or for more information\, contact Ladetra Robinson at 301-733-2371 x105
URL:https://www.hagerstownha.com/event/taxes-and-beyond/
ORGANIZER;CN="Ladetra%20Robinson":MAILTO:ladetra@reachofwc.org
END:VEVENT
END:VCALENDAR