BEGIN:VCALENDAR
VERSION:2.0
PRODID:-//Hagerstown Housing Authority - ECPv4.2.5//NONSGML v1.0//EN
CALSCALE:GREGORIAN
METHOD:PUBLISH
X-WR-CALNAME:Hagerstown Housing Authority
X-ORIGINAL-URL:https://www.hagerstownha.com
X-WR-CALDESC:Events for Hagerstown Housing Authority
BEGIN:VEVENT
DTSTART;TZID=America/New_York:20220316T130000
DTEND;TZID=America/New_York:20220316T140000
DTSTAMP:20260421T221032
CREATED:20220309T142641
LAST-MODIFIED:20220309T142641
UID:27575-1647435600-1647439200@www.hagerstownha.com
SUMMARY:Fall Prevention Awareness Class @ Walnut Towers
DESCRIPTION:Fall Prevention Awareness Class at Walnut Towers (12 S. Walnut St 8 th floor) Provided by Kim Torsiello Community Education Coordinator with the Washington County Commission on Aging
URL:https://www.hagerstownha.com/event/fall-prevention-awareness-class-walnut-towers/
END:VEVENT
END:VCALENDAR