BEGIN:VCALENDAR
VERSION:2.0
PRODID:-//Hagerstown Housing Authority - ECPv4.2.5//NONSGML v1.0//EN
CALSCALE:GREGORIAN
METHOD:PUBLISH
X-WR-CALNAME:Hagerstown Housing Authority
X-ORIGINAL-URL:https://www.hagerstownha.com
X-WR-CALDESC:Events for Hagerstown Housing Authority
BEGIN:VEVENT
DTSTART;TZID=America/New_York:20220901T080000
DTEND;TZID=America/New_York:20220901T170000
DTSTAMP:20260421T170504
CREATED:20220826T143243
LAST-MODIFIED:20220826T144101
UID:31355-1662019200-1662051600@www.hagerstownha.com
SUMMARY:Mowing Day- Family Communities
DESCRIPTION:
URL:https://www.hagerstownha.com/event/mowing-day-family-communities/2022-09-01/
END:VEVENT
END:VCALENDAR