BEGIN:VCALENDAR
VERSION:2.0
PRODID:-//Hagerstown Housing Authority - ECPv4.2.5//NONSGML v1.0//EN
CALSCALE:GREGORIAN
METHOD:PUBLISH
X-WR-CALNAME:Hagerstown Housing Authority
X-ORIGINAL-URL:https://www.hagerstownha.com
X-WR-CALDESC:Events for Hagerstown Housing Authority
BEGIN:VEVENT
DTSTART;TZID=America/New_York:20220914T080000
DTEND;TZID=America/New_York:20220914T170000
DTSTAMP:20260421T185244
CREATED:20220826T142840
LAST-MODIFIED:20220826T142840
UID:31349-1663142400-1663174800@www.hagerstownha.com
SUMMARY:Pest Control Noland Village: Ct 3 1020-1032\, Ct 5 1036-1040
DESCRIPTION:
URL:https://www.hagerstownha.com/event/pest-control-noland-village-ct-3-1020-1032-ct-5-1036-1040/
END:VEVENT
BEGIN:VEVENT
DTSTART;TZID=America/New_York:20220914T130000
DTEND;TZID=America/New_York:20220914T140000
DTSTAMP:20260421T185244
CREATED:20220826T135542
LAST-MODIFIED:20220826T135542
UID:31114-1663160400-1663164000@www.hagerstownha.com
SUMMARY:Dialectical Behavioral Therapy
DESCRIPTION:The Western Maryland Counseling Center\, Inc.\n\nDBT SKILLS TRAINING FOR ADULTS\n\nLearn How To Manage\n\nOverwhelming Emotions\, Impulsive Behaviors and improve Stressful Relationships through Dialectical Behavioral Therapy (DBT) skills coaching!\nWednesday September 14th at 1 pm in the Potomac Towers Community Room\nIf you are interested in attending or want more information\, please contact Deena Holder 301.733.6911 x 163
URL:https://www.hagerstownha.com/event/dialectical-behavioral-therapy/
LOCATION:11 West Baltimore Street\, Hagerstown\, MD\, 21740\, United States
GEO:39.638116;-77.7234788
X-APPLE-STRUCTURED-LOCATION;VALUE=URI;X-ADDRESS=11 West Baltimore Street Hagerstown MD 21740 United States;X-APPLE-RADIUS=500;X-TITLE=11 West Baltimore Street:geo:-77.7234788,39.638116
END:VEVENT
BEGIN:VEVENT
DTSTART;TZID=America/New_York:20220914T170000
DTEND;TZID=America/New_York:20220914T180000
DTSTAMP:20260421T185244
CREATED:20220908T125003
LAST-MODIFIED:20220908T125004
UID:31481-1663174800-1663178400@www.hagerstownha.com
SUMMARY:Financial Literacy Class- Conquering Debt
DESCRIPTION:September 14\, 2022 at 5 pm at the Washington County Library Conference Room 334.  For additional information contact Ladetra Robinson the REACH Financial Literacy Success Coach at ladetra@reachofwc.org. Click HERE to view flyer.
URL:https://www.hagerstownha.com/event/financial-literacy-class-conquering-debt/
LOCATION:100 S. Potomac Street\, Room 39\, Hagerstown\, MD\, 21740\, United States
ORGANIZER;CN="Ladetra%20Robinson":MAILTO:ladetra@reachofwc.org
END:VEVENT
END:VCALENDAR