BEGIN:VCALENDAR
VERSION:2.0
PRODID:-//Hagerstown Housing Authority - ECPv4.2.5//NONSGML v1.0//EN
CALSCALE:GREGORIAN
METHOD:PUBLISH
X-WR-CALNAME:Hagerstown Housing Authority
X-ORIGINAL-URL:https://www.hagerstownha.com
X-WR-CALDESC:Events for Hagerstown Housing Authority
BEGIN:VEVENT
DTSTART;TZID=America/New_York:20250213T083000
DTEND;TZID=America/New_York:20250213T083000
DTSTAMP:20260422T002533
CREATED:20211006T154203
LAST-MODIFIED:20211006T154203
UID:32269-1739435400-1739435400@www.hagerstownha.com
SUMMARY:Bulk Trash Pick Up: Parkside Homes @ Douglas Court
DESCRIPTION:Please set your items out after 8:00 pm the night before your scheduled day and have them on the curb prior to 8:30 am on your scheduled pick up day. This schedule will be strictly followed. An bulk items set on the curb on days other than those listed for your community will result in a charge ($60.00) to the resident.
URL:https://www.hagerstownha.com/event/bulk-trash-pick-up-parkside-homes-douglas-court/2025-02-13/
END:VEVENT
BEGIN:VEVENT
DTSTART;TZID=America/New_York:20250213T100000
DTEND;TZID=America/New_York:20250213T113000
DTSTAMP:20260422T002533
CREATED:20220706T141204
LAST-MODIFIED:20220706T141204
UID:32270-1739440800-1739446200@www.hagerstownha.com
SUMMARY:Stamps/Quarters Sold- Potomac Towers
DESCRIPTION:
URL:https://www.hagerstownha.com/event/stamps-quarters-sold-potomac-towers/2025-02-13/
LOCATION:11 West Baltimore Street\, Hagerstown\, MD\, 21740\, United States
GEO:39.638116;-77.7234788
X-APPLE-STRUCTURED-LOCATION;VALUE=URI;X-ADDRESS=11 West Baltimore Street Hagerstown MD 21740 United States;X-APPLE-RADIUS=500;X-TITLE=11 West Baltimore Street:geo:-77.7234788,39.638116
END:VEVENT
BEGIN:VEVENT
DTSTART;TZID=UTC+0:20250213T123000
DTEND;TZID=UTC+0:20250213T150000
DTSTAMP:20260422T002533
CREATED:20180810T222041
LAST-MODIFIED:20180810T222041
UID:32266-1739449800-1739458800@www.hagerstownha.com
SUMMARY:Board of Commissioners Meeting
DESCRIPTION:Regular Board meetings begin at 12:30 pm on the second Thursday of each month at the Administration Office of the Authority . The Chair may cancel or postpone a regular meeting in any month during which there is no business to transact.
URL:https://www.hagerstownha.com/event/board-of-commissioners-meeting/2025-02-13/
LOCATION:35 West Baltimore Street\, Hagerstown\, MD\, 21740\, United States
GEO:39.6388394;-77.7237862
X-APPLE-STRUCTURED-LOCATION;VALUE=URI;X-ADDRESS=35 West Baltimore Street Hagerstown MD 21740 United States;X-APPLE-RADIUS=500;X-TITLE=35 West Baltimore Street:geo:-77.7237862,39.6388394
END:VEVENT
BEGIN:VEVENT
DTSTART;TZID=America/New_York:20250213T143000
DTEND;TZID=America/New_York:20250213T190000
DTSTAMP:20260422T002533
CREATED:20230222T173428
LAST-MODIFIED:20230222T173428
UID:35553-1739457000-1739473200@www.hagerstownha.com
SUMMARY:Boys & Girls Club After School Program for Gateway Crossing
DESCRIPTION:Visit Elgin Station or call 301.733.5422 for more information
URL:https://www.hagerstownha.com/event/boys-girls-club-after-school-program-for-gateway-crossing/2025-02-13/
END:VEVENT
END:VCALENDAR