BEGIN:VCALENDAR
VERSION:2.0
PRODID:-//Hagerstown Housing Authority - ECPv4.2.5//NONSGML v1.0//EN
CALSCALE:GREGORIAN
METHOD:PUBLISH
X-WR-CALNAME:Hagerstown Housing Authority
X-ORIGINAL-URL:https://www.hagerstownha.com
X-WR-CALDESC:Events for Hagerstown Housing Authority
BEGIN:VEVENT
DTSTART;TZID=UTC+0:20250317T073000
DTEND;TZID=UTC+0:20250317T084500
DTSTAMP:20260425T233531
CREATED:20181102T234738
LAST-MODIFIED:20181102T234738
UID:35745-1742196600-1742201100@www.hagerstownha.com
SUMMARY:Coffee & Conversation
DESCRIPTION:
URL:https://www.hagerstownha.com/event/coffee-conversation/2025-03-17/
END:VEVENT
BEGIN:VEVENT
DTSTART;TZID=America/New_York:20250317T100000
DTEND;TZID=America/New_York:20250317T140000
DTSTAMP:20260425T233531
CREATED:20230222T170855
LAST-MODIFIED:20230222T170855
UID:35750-1742205600-1742220000@www.hagerstownha.com
SUMMARY:Free Drive Thru Covid Testing
DESCRIPTION:
URL:https://www.hagerstownha.com/event/free-drive-thru-covid-testing/2025-03-17/
LOCATION:13 W Lee Street\, Hagerstown\, 21740\, United States
END:VEVENT
BEGIN:VEVENT
DTSTART;TZID=America/New_York:20250317T110000
DTEND;TZID=America/New_York:20250318T130000
DTSTAMP:20260425T233531
CREATED:20220706T133928
LAST-MODIFIED:20220706T133928
UID:35747-1742209200-1742302800@www.hagerstownha.com
SUMMARY:Stamps/Quarters Sold- C.W. Brooks
DESCRIPTION:
URL:https://www.hagerstownha.com/event/stamps-quarters-sold-c-w-brooks/2025-03-17/
END:VEVENT
BEGIN:VEVENT
DTSTART;TZID=America/New_York:20250317T143000
DTEND;TZID=America/New_York:20250317T190000
DTSTAMP:20260425T233531
CREATED:20230222T173428
LAST-MODIFIED:20230222T173428
UID:35746-1742221800-1742238000@www.hagerstownha.com
SUMMARY:Boys & Girls Club After School Program for Gateway Crossing
DESCRIPTION:Visit Elgin Station or call 301.733.5422 for more information
URL:https://www.hagerstownha.com/event/boys-girls-club-after-school-program-for-gateway-crossing/2025-03-17/
END:VEVENT
END:VCALENDAR